BEGIN:VCALENDAR
VERSION:2.0
PRODID:-//Bürgerhilfe Bruchköbel e.V. - ECPv6.15.18//NONSGML v1.0//EN
CALSCALE:GREGORIAN
METHOD:PUBLISH
X-WR-CALNAME:Bürgerhilfe Bruchköbel e.V.
X-ORIGINAL-URL:https://buergerhilfe-bruchkoebel.de
X-WR-CALDESC:Veranstaltungen für Bürgerhilfe Bruchköbel e.V.
REFRESH-INTERVAL;VALUE=DURATION:PT1H
X-Robots-Tag:noindex
X-PUBLISHED-TTL:PT1H
BEGIN:VTIMEZONE
TZID:Europe/Berlin
BEGIN:DAYLIGHT
TZOFFSETFROM:+0100
TZOFFSETTO:+0200
TZNAME:CEST
DTSTART:20240331T010000
END:DAYLIGHT
BEGIN:STANDARD
TZOFFSETFROM:+0200
TZOFFSETTO:+0100
TZNAME:CET
DTSTART:20241027T010000
END:STANDARD
BEGIN:DAYLIGHT
TZOFFSETFROM:+0100
TZOFFSETTO:+0200
TZNAME:CEST
DTSTART:20250330T010000
END:DAYLIGHT
BEGIN:STANDARD
TZOFFSETFROM:+0200
TZOFFSETTO:+0100
TZNAME:CET
DTSTART:20251026T010000
END:STANDARD
BEGIN:DAYLIGHT
TZOFFSETFROM:+0100
TZOFFSETTO:+0200
TZNAME:CEST
DTSTART:20260329T010000
END:DAYLIGHT
BEGIN:STANDARD
TZOFFSETFROM:+0200
TZOFFSETTO:+0100
TZNAME:CET
DTSTART:20261025T010000
END:STANDARD
END:VTIMEZONE
BEGIN:VEVENT
DTSTART;TZID=Europe/Berlin:20250515T100000
DTEND;TZID=Europe/Berlin:20250515T180000
DTSTAMP:20260423T232414
CREATED:20250421T152653Z
LAST-MODIFIED:20250421T152816Z
UID:5604-1747303200-1747332000@buergerhilfe-bruchkoebel.de
SUMMARY:Seniorenradeln: Heißerackerhof
DESCRIPTION:Empfehlung: Radeln Sie mit bei den Fahrradtouren für Senioren! \nAus Fahrradtouren für Senioren 2025: „Über den Fliegerhorst fahren wir nach Erlensee. Dann Richtung Forsthaus Wolfgang\, weiter zum Schloß Emmrichshofen. Am Kahler See entlang nach Kahl. Dann fahren wir in Richtung Hörstein und nicht mehr weit ist unsere Mittagsrast. Nach ausgiebiger Rast und Stärkung geht es jetzt stramm bergauf zur Dettinger Hütte. Durch die Weinberge von Hörstein kommen wir nach Wasserlos. Ab hier geht durch Feld und Flur nach Alzenau und Michelbach. Nun beginnt wieder ein Anstieg der noch etwas Kraft kostet und schon sind wir am Wanderheim\, wo wir vielleicht noch einen Schoppen Wein trinken. Nach kurzer weiterer Steigung geht es nun rasant bergab fast bis Niederrodenbach. Von Rodenbach wieder nach Erlensee\, Fliegerhorst  und Bruchköbel“ \nDie Strecke wird mit ca. 60 km und als mittelschwer angegeben. Die angegebene Ende-Zeit ist ein unverbindlicher Wert. \nInteressierte Senioren treffen sich auf rein privater Basis in den Sommermonaten zum gemeinsamen Radfahren zu interessanten Zielen in der Umgebung. Treffpunkt ist am Freien Platz in der Mitte Bruchköbels am Brunnen vor der Bücherei. \nGefahren wird nach der StVO! Jede/r Teilnehmer/in nimmt auf eigenes Risiko teil. Die Erfahrung hat gezeigt\, dass es ratsam ist\, einen Helm zu tragen. Ein Ersatzschlauch und die richtige Luftpumpe im Gepäck können nützlich sein. Denn Sicherheit geht vor! \nWetterbedingt kann die Tour kurzfristig abgesagt oder verschoben werden. \nInformationen: Volker Schadeberg\, Telefon 06181-76130 oder E-Mail: volker.schadeberg@gmail.com \nDoris Daxacher\, Tel. 06181-780566 oder E-Mail: doris.dax1@gmail.com
URL:https://buergerhilfe-bruchkoebel.de/event/seniorenradeln-heisserackerhof
LOCATION:Freier Platz\, Bruchköbel\, Hauptstraße 53\, 63486 Bruchköbel\, Deutschland
END:VEVENT
BEGIN:VEVENT
DTSTART;TZID=Europe/Berlin:20250522T100000
DTEND;TZID=Europe/Berlin:20250522T180000
DTSTAMP:20260423T232414
CREATED:20250421T153253Z
LAST-MODIFIED:20250506T130220Z
UID:5606-1747908000-1747936800@buergerhilfe-bruchkoebel.de
SUMMARY:Seniorenradeln: FFM Höchst 7 Niddamündung
DESCRIPTION:Empfehlung: Radeln Sie mit bei den Fahrradtouren für Senioren! \nAus Fahrradtouren für Senioren 2025: „Heute machen wir unsere erste Tour für das Stadtradeln. Es geht zuerst auf die Hohe Straße bis Bergen. Dann weiter zum Lohrberg und hinab nach Berkersheim an die Nidda. Dieser fahren wir entlang bis zum alten Flugplatz Bonames wo wir unsere erste Rast einlegen. Dann geht es Weiter an der Nidda entlang\,. Vorbei an Eschersheim und Heddernheim\, durch schöne Parks und genießen die Fauna am Wasser. Bald sind wir auch schon in Höchst wo wir am Schloß unsere Mittagspause machen. Wohl gestärkt geht es mit einer Fähre auf die andere Mainseite in die Schwanheimer Dünen. Diese durchqueren wir und sind im Frankfurter Stadtwald. Hier geht es am Golfclub und dem Stadion vorbei zur Oberschweinstiege. Dann liegt vor uns der Münzweiher und der südliche Rand von Offenbach. Weiter zum OFC Stadion und die Käsmühl \, Lämmerspiel und Steinheim. Von hier aus ist es nach Bruchköbel nicht mehr weit.“ \nDie Strecke wird mit ca. 85 km und als mittelschwer angegeben. Die angegebene Ende-Zeit ist ein unverbindlicher Wert. \nInteressierte Senioren treffen sich auf rein privater Basis in den Sommermonaten zum gemeinsamen Radfahren zu interessanten Zielen in der Umgebung. Treffpunkt ist am Freien Platz in der Mitte Bruchköbels am Brunnen vor der Bücherei. \nGefahren wird nach der StVO! Jede/r Teilnehmer/in nimmt auf eigenes Risiko teil. Die Erfahrung hat gezeigt\, dass es ratsam ist\, einen Helm zu tragen. Ein Ersatzschlauch und die richtige Luftpumpe im Gepäck können nützlich sein. Denn Sicherheit geht vor! \nWetterbedingt kann die Tour kurzfristig abgesagt oder verschoben werden. \nInformationen: Volker Schadeberg\, Telefon 06181-76130 oder E-Mail: volker.schadeberg@gmail.com \nDoris Daxacher\, Tel. 06181-780566 oder E-Mail: doris.dax1@gmail.com
URL:https://buergerhilfe-bruchkoebel.de/event/seniorenradeln-ffm-hoechst-7-niddamuendung
LOCATION:Freier Platz\, Bruchköbel\, Hauptstraße 53\, 63486 Bruchköbel\, Deutschland
ATTACH;FMTTYPE=image/jpeg:https://buergerhilfe-bruchkoebel.de/wp-content/uploads/FFM-Hoechst.jpg
END:VEVENT
END:VCALENDAR