BEGIN:VCALENDAR
VERSION:2.0
PRODID:-//Bürgerhilfe Bruchköbel e.V. - ECPv6.15.18//NONSGML v1.0//EN
CALSCALE:GREGORIAN
METHOD:PUBLISH
X-WR-CALNAME:Bürgerhilfe Bruchköbel e.V.
X-ORIGINAL-URL:https://buergerhilfe-bruchkoebel.de
X-WR-CALDESC:Veranstaltungen für Bürgerhilfe Bruchköbel e.V.
REFRESH-INTERVAL;VALUE=DURATION:PT1H
X-Robots-Tag:noindex
X-PUBLISHED-TTL:PT1H
BEGIN:VTIMEZONE
TZID:Europe/Berlin
BEGIN:DAYLIGHT
TZOFFSETFROM:+0100
TZOFFSETTO:+0200
TZNAME:CEST
DTSTART:20240331T010000
END:DAYLIGHT
BEGIN:STANDARD
TZOFFSETFROM:+0200
TZOFFSETTO:+0100
TZNAME:CET
DTSTART:20241027T010000
END:STANDARD
BEGIN:DAYLIGHT
TZOFFSETFROM:+0100
TZOFFSETTO:+0200
TZNAME:CEST
DTSTART:20250330T010000
END:DAYLIGHT
BEGIN:STANDARD
TZOFFSETFROM:+0200
TZOFFSETTO:+0100
TZNAME:CET
DTSTART:20251026T010000
END:STANDARD
BEGIN:DAYLIGHT
TZOFFSETFROM:+0100
TZOFFSETTO:+0200
TZNAME:CEST
DTSTART:20260329T010000
END:DAYLIGHT
BEGIN:STANDARD
TZOFFSETFROM:+0200
TZOFFSETTO:+0100
TZNAME:CET
DTSTART:20261025T010000
END:STANDARD
END:VTIMEZONE
BEGIN:VEVENT
DTSTART;TZID=Europe/Berlin:20250605T100000
DTEND;TZID=Europe/Berlin:20250605T180000
DTSTAMP:20260423T220232
CREATED:20250421T153648Z
LAST-MODIFIED:20250506T145202Z
UID:5609-1749117600-1749146400@buergerhilfe-bruchkoebel.de
SUMMARY:Seniorenradeln: Reichelsheim / Wetterau
DESCRIPTION:Empfehlung: Radeln Sie mit bei den Fahrradtouren für Senioren! \nAus Fahrradtouren für Senioren 2025: „Vom Freien Platz aus geht es zunächst Richtung Roßdorf\, Windecken und durch schöne Landschaft und  kleinen Steigungen mit schönen Aussichten nach Assenheim. Weiter geht es durch Feld und Flur nach Ossenheim  und Beienheim. Nun kommen wir in die dicke Wetterau hinein und erreichen den Wölfersheimer See. Diese Freizeitanlage und der Uferbewuchs sind sehenswert. Wir umrunden den See und fahren direkt nach Reichelsheim wo wir unsere Mittagspause machen. Nach dem Essen geht es nach Staden und Stammheim\, wo uns nochmal eine kräftige Steigung Richtung Altenstadt ansteht. Nach einer rasanten Abfahrt nach Altenstadt geht es weiter nach Oberau in den Wald Richtung Marköbel. Wir biegen aber vorher rechts ab zum Baiersröterhof. Dann folgt noch eine kleine Steigung und wir kommen nach Butterstadt. Ab hier sind es noch ein paar kleine Km bis zum Freien Platz.“ \nDie Strecke wird mit ca. 80 km und als mittelschwer angegeben. Die angegebene Ende-Zeit ist ein unverbindlicher Wert. \nInteressierte Senioren treffen sich auf rein privater Basis in den Sommermonaten zum gemeinsamen Radfahren zu interessanten Zielen in der Umgebung. Treffpunkt ist am Freien Platz in der Mitte Bruchköbels am Brunnen vor der Bücherei. \nGefahren wird nach der StVO! Jede/r Teilnehmer/in nimmt auf eigenes Risiko teil. Die Erfahrung hat gezeigt\, dass es ratsam ist\, einen Helm zu tragen. Ein Ersatzschlauch und die richtige Luftpumpe im Gepäck können nützlich sein. Denn Sicherheit geht vor! \nWetterbedingt kann die Tour kurzfristig abgesagt oder verschoben werden. \nInformationen: Volker Schadeberg\, Telefon 06181-76130 oder E-Mail: volker.schadeberg@gmail.com \nDoris Daxacher\, Tel. 06181-780566 oder E-Mail: doris.dax1@gmail.com
URL:https://buergerhilfe-bruchkoebel.de/event/seniorenradeln-reichelsheim-wetterau
LOCATION:Freier Platz\, Bruchköbel\, Hauptstraße 53\, 63486 Bruchköbel\, Deutschland
ATTACH;FMTTYPE=image/jpeg:https://buergerhilfe-bruchkoebel.de/wp-content/uploads/Reichelsheim.jpg
END:VEVENT
BEGIN:VEVENT
DTSTART;TZID=Europe/Berlin:20250626T100000
DTEND;TZID=Europe/Berlin:20250626T100000
DTSTAMP:20260423T220232
CREATED:20250421T154029Z
LAST-MODIFIED:20250421T154029Z
UID:5612-1750932000-1750932000@buergerhilfe-bruchkoebel.de
SUMMARY:Seniorenradeln: Rosendorf Steinfurth
DESCRIPTION:Empfehlung: Radeln Sie mit bei den Fahrradtouren für Senioren! \nAus Fahrradtouren für Senioren 2025: „Heute geht es wieder Richtung Wetterau. Von Bruchköbel aus nach Windecken\, Kaichen bis Assenheim. Ab hier folgen wir dem Usa-Radweg. Umfahren Friedberg und gelangen dann zum ältesten Rosendorf Deutschlands-Steinfurth bei Bad Nauheim\, Kurz vor Steinfurth machen wir noch einen kleinen Zwischenstopp im Rosenpark Dräger. Dort erwarten uns über 800 Rosensorten\, die in zehn Themengärten präsentiert werden. Hier stehen auch E-Bike Ladestationen zur Verfügung. Im Anschluss findet die wohlverdiente Mittagspause in Steinfurth statt.                                                                                  Nach der Mittagspause machen wir uns auf den Heimweg. Es geht durch Bad Nauheim und Ockstadt. Mal sehen ob es schon Kirschen gibt. Weiter über Burg Gräfenrode\, Büdesheim nach Kilianstädten. Nach einem Abstecher in ein Eiscafè\, setzen  wir erfrischt unsere Heimreise nach Bruchköbel fort.“ \nDie Strecke wird mit ca. 85 km und als mittelschwer angegeben. Die angegebene Ende-Zeit ist ein unverbindlicher Wert. \nInteressierte Senioren treffen sich auf rein privater Basis in den Sommermonaten zum gemeinsamen Radfahren zu interessanten Zielen in der Umgebung. Treffpunkt ist am Freien Platz in der Mitte Bruchköbels am Brunnen vor der Bücherei. \nGefahren wird nach der StVO! Jede/r Teilnehmer/in nimmt auf eigenes Risiko teil. Die Erfahrung hat gezeigt\, dass es ratsam ist\, einen Helm zu tragen. Ein Ersatzschlauch und die richtige Luftpumpe im Gepäck können nützlich sein. Denn Sicherheit geht vor! \nWetterbedingt kann die Tour kurzfristig abgesagt oder verschoben werden. \nInformationen: Volker Schadeberg\, Telefon 06181-76130 oder E-Mail: volker.schadeberg@gmail.com \nDoris Daxacher\, Tel. 06181-780566 oder E-Mail: doris.dax1@gmail.com
URL:https://buergerhilfe-bruchkoebel.de/event/seniorenradeln-rosendorf-steinfurth
LOCATION:Freier Platz\, Bruchköbel\, Hauptstraße 53\, 63486 Bruchköbel\, Deutschland
ATTACH;FMTTYPE=image/jpeg:https://buergerhilfe-bruchkoebel.de/wp-content/uploads/Steinfurth.jpg
END:VEVENT
END:VCALENDAR