BEGIN:VCALENDAR
VERSION:2.0
PRODID:-//Bürgerhilfe Bruchköbel e.V. - ECPv6.15.18//NONSGML v1.0//EN
CALSCALE:GREGORIAN
METHOD:PUBLISH
X-ORIGINAL-URL:https://buergerhilfe-bruchkoebel.de
X-WR-CALDESC:Veranstaltungen für Bürgerhilfe Bruchköbel e.V.
REFRESH-INTERVAL;VALUE=DURATION:PT1H
X-Robots-Tag:noindex
X-PUBLISHED-TTL:PT1H
BEGIN:VTIMEZONE
TZID:Europe/Berlin
BEGIN:DAYLIGHT
TZOFFSETFROM:+0100
TZOFFSETTO:+0200
TZNAME:CEST
DTSTART:20240331T010000
END:DAYLIGHT
BEGIN:STANDARD
TZOFFSETFROM:+0200
TZOFFSETTO:+0100
TZNAME:CET
DTSTART:20241027T010000
END:STANDARD
BEGIN:DAYLIGHT
TZOFFSETFROM:+0100
TZOFFSETTO:+0200
TZNAME:CEST
DTSTART:20250330T010000
END:DAYLIGHT
BEGIN:STANDARD
TZOFFSETFROM:+0200
TZOFFSETTO:+0100
TZNAME:CET
DTSTART:20251026T010000
END:STANDARD
BEGIN:DAYLIGHT
TZOFFSETFROM:+0100
TZOFFSETTO:+0200
TZNAME:CEST
DTSTART:20260329T010000
END:DAYLIGHT
BEGIN:STANDARD
TZOFFSETFROM:+0200
TZOFFSETTO:+0100
TZNAME:CET
DTSTART:20261025T010000
END:STANDARD
END:VTIMEZONE
BEGIN:VEVENT
DTSTART;TZID=Europe/Berlin:20250918T100000
DTEND;TZID=Europe/Berlin:20250918T100000
DTSTAMP:20260423T171646
CREATED:20250421T160902Z
LAST-MODIFIED:20250421T160902Z
UID:5640-1758189600-1758189600@buergerhilfe-bruchkoebel.de
SUMMARY:Seniorenradeln: Burg  Alzenau ( Kahl )
DESCRIPTION:Empfehlung: Radeln Sie mit bei den Fahrradtouren für Senioren! \nAus Fahrradtouren für Senioren 2025: „Ab Bruchköbel fahren wir den alt bekannten Weg nach Rückingen. Dann geht es weiter über den Limesradweg – auf den Spuren der Römer – bis Großkrotzenburg. Am Main entlang bis zur Mündung der Kahl. An der schönen Kahl entlang kommen wir zum Schloss Alzenau.  Nach kurzer Pause geht es dann über Michelbach nach Albstadt\, wo uns mitten im Wald ein netter Grieche zum Mittag erwartet.  Zurück fahren wir etwas bergauf\, um unser Mittagessen zu verdauen\, über das Schweden Kreuz zum Golfplatz Hof Trages. Dann geht es rechts in den Wald hinein. Nun folgt wieder ein Aufstieg zur Dicken Tanne und wir kommen zum Buchbergturm. Nach der Anstrengung ist nochmal eine kleine Rast von Nöten. Dann geht es bergab über Erlensee wieder nach Hause.“ \nDie Strecke wird mit ca. 45 km und als leichtangegeben. Die angegebene Ende-Zeit ist ein unverbindlicher Wert. \nInteressierte Senioren treffen sich auf rein privater Basis in den Sommermonaten zum gemeinsamen Radfahren zu interessanten Zielen in der Umgebung. Treffpunkt ist am Freien Platz in der Mitte Bruchköbels am Brunnen vor der Bücherei. \nGefahren wird nach der StVO! Jede/r Teilnehmer/in nimmt auf eigenes Risiko teil. Die Erfahrung hat gezeigt\, dass es ratsam ist\, einen Helm zu tragen. Ein Ersatzschlauch und die richtige Luftpumpe im Gepäck können nützlich sein. Denn Sicherheit geht vor! \nWetterbedingt kann die Tour kurzfristig abgesagt oder verschoben werden. \nInformationen: Volker Schadeberg\, Telefon 06181-76130 oder E-Mail: volker.schadeberg@gmail.com \nDoris Daxacher\, Tel. 06181-780566 oder E-Mail: doris.dax1@gmail.com
URL:https://buergerhilfe-bruchkoebel.de/event/seniorenradeln-burg-alzenau-kahl
LOCATION:Freier Platz\, Bruchköbel\, Hauptstraße 53\, 63486 Bruchköbel\, Deutschland
ATTACH;FMTTYPE=image/jpeg:https://buergerhilfe-bruchkoebel.de/wp-content/uploads/Burg-Alzenau.jpg
END:VEVENT
END:VCALENDAR