BEGIN:VCALENDAR
VERSION:2.0
PRODID:-//Bürgerhilfe Bruchköbel e.V. - ECPv6.15.18//NONSGML v1.0//EN
CALSCALE:GREGORIAN
METHOD:PUBLISH
X-ORIGINAL-URL:https://buergerhilfe-bruchkoebel.de
X-WR-CALDESC:Veranstaltungen für Bürgerhilfe Bruchköbel e.V.
REFRESH-INTERVAL;VALUE=DURATION:PT1H
X-Robots-Tag:noindex
X-PUBLISHED-TTL:PT1H
BEGIN:VTIMEZONE
TZID:Europe/Berlin
BEGIN:DAYLIGHT
TZOFFSETFROM:+0100
TZOFFSETTO:+0200
TZNAME:CEST
DTSTART:20240331T010000
END:DAYLIGHT
BEGIN:STANDARD
TZOFFSETFROM:+0200
TZOFFSETTO:+0100
TZNAME:CET
DTSTART:20241027T010000
END:STANDARD
BEGIN:DAYLIGHT
TZOFFSETFROM:+0100
TZOFFSETTO:+0200
TZNAME:CEST
DTSTART:20250330T010000
END:DAYLIGHT
BEGIN:STANDARD
TZOFFSETFROM:+0200
TZOFFSETTO:+0100
TZNAME:CET
DTSTART:20251026T010000
END:STANDARD
BEGIN:DAYLIGHT
TZOFFSETFROM:+0100
TZOFFSETTO:+0200
TZNAME:CEST
DTSTART:20260329T010000
END:DAYLIGHT
BEGIN:STANDARD
TZOFFSETFROM:+0200
TZOFFSETTO:+0100
TZNAME:CET
DTSTART:20261025T010000
END:STANDARD
END:VTIMEZONE
BEGIN:VEVENT
DTSTART;TZID=Europe/Berlin:20251016T100000
DTEND;TZID=Europe/Berlin:20251016T100000
DTSTAMP:20260423T154607
CREATED:20250421T161446Z
LAST-MODIFIED:20250421T161446Z
UID:5645-1760608800-1760608800@buergerhilfe-bruchkoebel.de
SUMMARY:Seniorenradeln: Überraschungstour
DESCRIPTION:Empfehlung: Radeln Sie mit bei den Fahrradtouren für Senioren! \nAus Fahrradtouren für Senioren 2025: „In diesem Jahr haben wir sehr viele große und auch anstrengende  Touren gemacht. Deshalbwollen wir diese Saison mit einer leichten Tour ausklingen lassen. Nur wohin die Reise geht\, wird noch nicht verraten. Eine Tour ohne anstrengende Steigung – dafür aber mit kulinarischen Hochs.“ \nDie Strecke wird mit ca. 55 km und als leicht angegeben. Die angegebene Ende-Zeit ist ein unverbindlicher Wert. \nInteressierte Senioren treffen sich auf rein privater Basis in den Sommermonaten zum gemeinsamen Radfahren zu interessanten Zielen in der Umgebung. Treffpunkt ist am Freien Platz in der Mitte Bruchköbels am Brunnen vor der Bücherei. \nGefahren wird nach der StVO! Jede/r Teilnehmer/in nimmt auf eigenes Risiko teil. Die Erfahrung hat gezeigt\, dass es ratsam ist\, einen Helm zu tragen. Ein Ersatzschlauch und die richtige Luftpumpe im Gepäck können nützlich sein. Denn Sicherheit geht vor! \nWetterbedingt kann die Tour kurzfristig abgesagt oder verschoben werden. \nInformationen: Volker Schadeberg\, Telefon 06181-76130 oder E-Mail: volker.schadeberg@gmail.com \nDoris Daxacher\, Tel. 06181-780566 oder E-Mail: doris.dax1@gmail.com
URL:https://buergerhilfe-bruchkoebel.de/event/seniorenradeln-ueberraschungstour
LOCATION:Freier Platz\, Bruchköbel\, Hauptstraße 53\, 63486 Bruchköbel\, Deutschland
END:VEVENT
END:VCALENDAR