BEGIN:VCALENDAR
VERSION:2.0
PRODID:-//Bürgerhilfe Bruchköbel e.V. - ECPv6.15.18//NONSGML v1.0//EN
CALSCALE:GREGORIAN
METHOD:PUBLISH
X-WR-CALNAME:Bürgerhilfe Bruchköbel e.V.
X-ORIGINAL-URL:https://buergerhilfe-bruchkoebel.de
X-WR-CALDESC:Veranstaltungen für Bürgerhilfe Bruchköbel e.V.
REFRESH-INTERVAL;VALUE=DURATION:PT1H
X-Robots-Tag:noindex
X-PUBLISHED-TTL:PT1H
BEGIN:VTIMEZONE
TZID:Europe/Berlin
BEGIN:DAYLIGHT
TZOFFSETFROM:+0100
TZOFFSETTO:+0200
TZNAME:CEST
DTSTART:20230326T010000
END:DAYLIGHT
BEGIN:STANDARD
TZOFFSETFROM:+0200
TZOFFSETTO:+0100
TZNAME:CET
DTSTART:20231029T010000
END:STANDARD
BEGIN:DAYLIGHT
TZOFFSETFROM:+0100
TZOFFSETTO:+0200
TZNAME:CEST
DTSTART:20240331T010000
END:DAYLIGHT
BEGIN:STANDARD
TZOFFSETFROM:+0200
TZOFFSETTO:+0100
TZNAME:CET
DTSTART:20241027T010000
END:STANDARD
BEGIN:DAYLIGHT
TZOFFSETFROM:+0100
TZOFFSETTO:+0200
TZNAME:CEST
DTSTART:20250330T010000
END:DAYLIGHT
BEGIN:STANDARD
TZOFFSETFROM:+0200
TZOFFSETTO:+0100
TZNAME:CET
DTSTART:20251026T010000
END:STANDARD
END:VTIMEZONE
BEGIN:VEVENT
DTSTART;TZID=Europe/Berlin:20241010T180000
DTEND;TZID=Europe/Berlin:20241010T210000
DTSTAMP:20260424T002840
CREATED:20240724T100544Z
LAST-MODIFIED:20240909T161933Z
UID:4982-1728583200-1728594000@buergerhilfe-bruchkoebel.de
SUMMARY:Vortrag: Sicher mobil - Radverkehr und neue Verkehrsregeln
DESCRIPTION:Bürgerhilfe Bruchköbel und Deutscher Verkehrssicherheitsrat informieren \nBruchköbel: Bis ins hohe Alter mobil sein und mobil bleiben – diesen Wunsch haben viele Menschen. Denn wer mobil ist\, kann Kontakte pflegen\, Besorgungen erledigen\, verreisen und neue Erfahrungen sammeln. In den letzten Jahrzehnten hat das Verkehrsaufkommen stetig zugenommen\, ob innerorts oder außerorts. Es sind immer mehr neue Verkehrsgeräte wie E-Bikes und E-Scooter auf den Straßen unterwegs. \nAuch haben sich etliche Gesetze und Regeln geändert\, neue Schilder sind hinzugekommen. Manches\, was man noch vor 40 Jahren in der Fahrschule gelernt hat\, ist inzwischen längst überholt. Viele ältere Menschen fühlen sich angesichts dieser Herausforderungen im Straßenverkehr unsicher. \nIm letzten Jahr hat die Bürgerhilfe Bruchköbel mit dem ADAC eine sehr interessante Veranstaltung zum Thema „Senioren am Steuer“ durchgeführt. In diesem Jahr freut sich die Bürgerhilfe den Verkehrs-Experten des ADAC Ralf Drexelius in Bruchköbel begrüßen zu können. Am 10. Oktober 2024\, 18.00 Uhr im Bürgerhaus Oberissigheim wird er umfassende Auskunft geben! Sein Thema: Radverkehr und neue Verkehrsregeln. Gefahren\, Unfallrisiken\, Radfahrertipps und Verkehrsregeln für Radfahrerinnen und Radfahrer werden im Mittelpunkt seiner Ausführungen stehen. Hierzu sind Alle herzlich eingeladen! Herzlich willkommen!
URL:https://buergerhilfe-bruchkoebel.de/event/vortrag-sicher-mobil-fahrradfahren-und-neue-verkehrsvorschriften
LOCATION:Bürgerhaus Oberissigheim\, Waimerstraße 34\, Bruchköbel\, 63486\, Deutschland
END:VEVENT
END:VCALENDAR