BEGIN:VCALENDAR
VERSION:2.0
PRODID:-//Bürgerhilfe Bruchköbel e.V. - ECPv6.15.18//NONSGML v1.0//EN
CALSCALE:GREGORIAN
METHOD:PUBLISH
X-ORIGINAL-URL:https://buergerhilfe-bruchkoebel.de
X-WR-CALDESC:Veranstaltungen für Bürgerhilfe Bruchköbel e.V.
REFRESH-INTERVAL;VALUE=DURATION:PT1H
X-Robots-Tag:noindex
X-PUBLISHED-TTL:PT1H
BEGIN:VTIMEZONE
TZID:Europe/Berlin
BEGIN:DAYLIGHT
TZOFFSETFROM:+0100
TZOFFSETTO:+0200
TZNAME:CEST
DTSTART:20230326T010000
END:DAYLIGHT
BEGIN:STANDARD
TZOFFSETFROM:+0200
TZOFFSETTO:+0100
TZNAME:CET
DTSTART:20231029T010000
END:STANDARD
BEGIN:DAYLIGHT
TZOFFSETFROM:+0100
TZOFFSETTO:+0200
TZNAME:CEST
DTSTART:20240331T010000
END:DAYLIGHT
BEGIN:STANDARD
TZOFFSETFROM:+0200
TZOFFSETTO:+0100
TZNAME:CET
DTSTART:20241027T010000
END:STANDARD
BEGIN:DAYLIGHT
TZOFFSETFROM:+0100
TZOFFSETTO:+0200
TZNAME:CEST
DTSTART:20250330T010000
END:DAYLIGHT
BEGIN:STANDARD
TZOFFSETFROM:+0200
TZOFFSETTO:+0100
TZNAME:CET
DTSTART:20251026T010000
END:STANDARD
END:VTIMEZONE
BEGIN:VEVENT
DTSTART;TZID=Europe/Berlin:20240516T180000
DTEND;TZID=Europe/Berlin:20240516T200000
DTSTAMP:20260424T122437
CREATED:20240305T122638Z
LAST-MODIFIED:20240424T100618Z
UID:4625-1715882400-1715889600@buergerhilfe-bruchkoebel.de
SUMMARY:Pflegebedürftigkeit - erneut ein Thema für die Bürgerhilfe Bruchköbel
DESCRIPTION:Rund 5 Millionen Menschen nehmen in Deutschland pro Monat Leistungen der Pflegeversicherung in Anspruch. Etwa 80% erhalten ambulante Leistungen. Die übrigen Aufwendungen der Pflegeversicherung entfallen auf stationäre Pflege. Die rechtlichen Regelungen der Pflegeversicherung haben sich in den letzten Jahren mehrfach geändert. Sie wurden der demographischen Entwicklung und den wirtschaftlichen Gegebenheiten angepasst. Das hat für die Betroffenen und ihre Angehörigen zu vielen Fragen und auch Problemen geführt.\nDie Anfragen und Bitten um rechtliche Erstberatung und Unterstützung haben bei der Bürgerhilfe Bruchköbel in diesem Bereich stark zugenommen. Deshalb greifen wir dieses Thema nun erneut auf. Die häufigsten Fragen beziehen sich auf die Antragstellung\, die Einstufung in den Pflegegrad\, den Leistungsumfang und auch die Möglichkeiten\, die zur Verfügung stehenden Rechtsmittel gegen Entscheidungen der Pflegeversicherung einzuschätzen.\nUnsere Veranstaltung „Pflegebedürftig – was nun\, was tun“ haben wir schon\nim Jahr 2012 mit guter Hilfe des Pflegestützpunktes Main-Kinzig-Kreises durchgeführt. Auch jetzt erhalten wir von dort wieder gute Unterstützung durch eine Referentin.\nZiel der Veranstaltung ist\, dieses Thema unseren Mitgliedern und Gästen leicht verständlich und umsetzbar zu vermitteln und ihnen Lösungshilfen anzuzeigen.\nFolgende Themen werden am 16. Mai 2024\, 18.00 Uhr im Bürgerhaus Oberissigheim im Mittelpunkt stehen: Antragstellung auf Leistungen der Pflegeversicherung\, Feststellung des Pflegegrades und Leistungen der Pflegeversicherung. Alle sind herzlich willkommen!
URL:https://buergerhilfe-bruchkoebel.de/event/vortrag-pflege-im-alter
LOCATION:Bürgerhaus Oberissigheim\, Waimerstraße 34\, Bruchköbel\, 63486\, Deutschland
END:VEVENT
END:VCALENDAR